BEGIN:VCALENDAR
VERSION:2.0
PRODID:-//Bialka Cup - ECPv6.15.16//NONSGML v1.0//EN
CALSCALE:GREGORIAN
METHOD:PUBLISH
X-WR-CALNAME:Bialka Cup
X-ORIGINAL-URL:https://bialkacup.com
X-WR-CALDESC:Events for Bialka Cup
REFRESH-INTERVAL;VALUE=DURATION:PT1H
X-Robots-Tag:noindex
X-PUBLISHED-TTL:PT1H
BEGIN:VTIMEZONE
TZID:America/Chicago
BEGIN:DAYLIGHT
TZOFFSETFROM:-0600
TZOFFSETTO:-0500
TZNAME:CDT
DTSTART:20240310T080000
END:DAYLIGHT
BEGIN:STANDARD
TZOFFSETFROM:-0500
TZOFFSETTO:-0600
TZNAME:CST
DTSTART:20241103T070000
END:STANDARD
BEGIN:DAYLIGHT
TZOFFSETFROM:-0600
TZOFFSETTO:-0500
TZNAME:CDT
DTSTART:20250309T080000
END:DAYLIGHT
BEGIN:STANDARD
TZOFFSETFROM:-0500
TZOFFSETTO:-0600
TZNAME:CST
DTSTART:20251102T070000
END:STANDARD
BEGIN:DAYLIGHT
TZOFFSETFROM:-0600
TZOFFSETTO:-0500
TZNAME:CDT
DTSTART:20260308T080000
END:DAYLIGHT
BEGIN:STANDARD
TZOFFSETFROM:-0500
TZOFFSETTO:-0600
TZNAME:CST
DTSTART:20261101T070000
END:STANDARD
END:VTIMEZONE
BEGIN:VEVENT
DTSTART;TZID=America/Chicago:20250517T120000
DTEND;TZID=America/Chicago:20250517T200000
DTSTAMP:20260420T065623
CREATED:20250403T040738Z
LAST-MODIFIED:20250515T120837Z
UID:3934-1747483200-1747512000@bialkacup.com
SUMMARY:Białka Cup 2025 - Game 4
DESCRIPTION:Białka Cup 2025 – Game 4 \nThe 2025 season rolls on!Join us for Game 4 at the always exciting Seven Bridges Golf Club. \nDate: May 17th\, 2025\, 12:00 PM\nLocation: Seven Bridges Golf Club\, Woodridge\, IL \nBring your best swing and keep climbing the leaderboard – see you on the course! \n  \nRegistration is closed. \n\nFoursomes: \nTEAM 1 @ 12:00 pm\nMatyga Stanley\nKwiatkowski Mariusz\nWesolowski Jozef\nKomperda Dariusz\n \nTEAM 2 @ 12:10 pm\nHandzel Greg\nKurtyka Matthew\nRafacz John\nJarecki Stanley \nTEAM 3 @ 12:20 pm\nSuchecki Matthew\nFijas Adrian\nHandzel Bogus\nGubala Robert \nTEAM 4 @ 12:30 pm\nFijas Adam\nGiadla Peter\nRams Kris\nWaclaw Greg \nTEAM 5 @ 12:40 pm\nKrzeczkowski Tom\nRatulowski Daniel\nMadej Jakub\nCzachor Michal \nTEAM 6 @ 12:50 pm\nKozub Piotr\nHalupka Lukasz\nSuchecki Wieslaw\nGoryl Bogdan \nTEAM 7 @ 1:00 pm\nWaliczek Marian\nLublinski Greg\nGoryl Krzysztof\nHruswicki Adam \nTEAM 8 @ 1:10 pm\nGierasimiuk Irek\nKowal Krzysztof\nTyrala Zbigniew \nBorzecki Peter \nTEAM 9 @ 1:20 pm\nGalica Stan\nBasiorka Joe\nMaciata Stan\nGubala Christopher \nTEAM 10 @ 1:30 pm\nAnna Marek\nAnna Kowal\nWytaniec Andy\nCzubernat Krzysztof \nTEAM 11 @ 1:40 pm\nGron Albert\nMikolajczyk Andrzej\nTyszka Andrzej\nZadora Jack \nTEAM 12 @ 1:50 pm\nRams Kevin\nZdanowski Darius\nTakuski Wojciech\nCzerwinski Maciej \nTEAM 13 @ 2:00 pm\nFoltyn Bogdan\nMietus Dominik\nGawlak Marcin\nKrzeczkowski Chris
URL:https://bialkacup.com/event/bialka-cup-2025-game-4/
LOCATION:Seven Bridges Golf Club\, 1 Mulligan Dr\, Woodridge\, IL\, 60517\, United States
CATEGORIES:2025
ATTACH;FMTTYPE=image/webp:https://bialkacup.com/wp-content/uploads/2025/04/seven-bridges.webp
END:VEVENT
END:VCALENDAR